BEGIN:VCALENDAR
VERSION:2.0
PRODID:-//4ine&amp;Cie - ECPv6.15.20//NONSGML v1.0//EN
CALSCALE:GREGORIAN
METHOD:PUBLISH
X-WR-CALNAME:4ine&amp;Cie
X-ORIGINAL-URL:https://4ineetcie.ch
X-WR-CALDESC:Évènements pour 4ine&amp;Cie
REFRESH-INTERVAL;VALUE=DURATION:PT1H
X-Robots-Tag:noindex
X-PUBLISHED-TTL:PT1H
BEGIN:VTIMEZONE
TZID:Europe/Zurich
BEGIN:DAYLIGHT
TZOFFSETFROM:+0100
TZOFFSETTO:+0200
TZNAME:CEST
DTSTART:20230326T010000
END:DAYLIGHT
BEGIN:STANDARD
TZOFFSETFROM:+0200
TZOFFSETTO:+0100
TZNAME:CET
DTSTART:20231029T010000
END:STANDARD
BEGIN:DAYLIGHT
TZOFFSETFROM:+0100
TZOFFSETTO:+0200
TZNAME:CEST
DTSTART:20240331T010000
END:DAYLIGHT
BEGIN:STANDARD
TZOFFSETFROM:+0200
TZOFFSETTO:+0100
TZNAME:CET
DTSTART:20241027T010000
END:STANDARD
BEGIN:DAYLIGHT
TZOFFSETFROM:+0100
TZOFFSETTO:+0200
TZNAME:CEST
DTSTART:20250330T010000
END:DAYLIGHT
BEGIN:STANDARD
TZOFFSETFROM:+0200
TZOFFSETTO:+0100
TZNAME:CET
DTSTART:20251026T010000
END:STANDARD
END:VTIMEZONE
BEGIN:VEVENT
DTSTART;TZID=Europe/Zurich:20240616T170000
DTEND;TZID=Europe/Zurich:20240616T180000
DTSTAMP:20260423T224945
CREATED:20240206T102945Z
LAST-MODIFIED:20240206T112819Z
UID:29578-1718557200-1718560800@4ineetcie.ch
SUMMARY:Lecture vivante et réjouissante de Les Esprits de la terre\, de Catherine Colomb - Episode 3
DESCRIPTION:par Catherine Kunz
URL:https://4ineetcie.ch/event/lecture-vivante-et-rejouissante-de-les-esprits-de-la-terre-de-catherine-colomb-episode-3-2/
LOCATION:Espace culturel du Vieux Moulin\, Salle Mermet III\, Av. de Taillecou 2\, 1162 Sant-Prex\, Avenue de Taillecou 2\, Saint Prex\, Vaud\, 1162\, Suisse
CATEGORIES:Lecture vivante
ORGANIZER;CN="4ine&Cie":MAILTO:info@4ineetcie.ch
END:VEVENT
END:VCALENDAR