BEGIN:VCALENDAR
VERSION:2.0
PRODID:-//4ine&amp;Cie - ECPv6.15.20//NONSGML v1.0//EN
CALSCALE:GREGORIAN
METHOD:PUBLISH
X-ORIGINAL-URL:https://4ineetcie.ch
X-WR-CALDESC:Évènements pour 4ine&amp;Cie
REFRESH-INTERVAL;VALUE=DURATION:PT1H
X-Robots-Tag:noindex
X-PUBLISHED-TTL:PT1H
BEGIN:VTIMEZONE
TZID:Europe/Zurich
BEGIN:DAYLIGHT
TZOFFSETFROM:+0100
TZOFFSETTO:+0200
TZNAME:CEST
DTSTART:20230326T010000
END:DAYLIGHT
BEGIN:STANDARD
TZOFFSETFROM:+0200
TZOFFSETTO:+0100
TZNAME:CET
DTSTART:20231029T010000
END:STANDARD
BEGIN:DAYLIGHT
TZOFFSETFROM:+0100
TZOFFSETTO:+0200
TZNAME:CEST
DTSTART:20240331T010000
END:DAYLIGHT
BEGIN:STANDARD
TZOFFSETFROM:+0200
TZOFFSETTO:+0100
TZNAME:CET
DTSTART:20241027T010000
END:STANDARD
BEGIN:DAYLIGHT
TZOFFSETFROM:+0100
TZOFFSETTO:+0200
TZNAME:CEST
DTSTART:20250330T010000
END:DAYLIGHT
BEGIN:STANDARD
TZOFFSETFROM:+0200
TZOFFSETTO:+0100
TZNAME:CET
DTSTART:20251026T010000
END:STANDARD
END:VTIMEZONE
BEGIN:VEVENT
DTSTART;TZID=Europe/Zurich:20240514T200000
DTEND;TZID=Europe/Zurich:20240514T210000
DTSTAMP:20260424T014747
CREATED:20240206T101611Z
LAST-MODIFIED:20240206T112849Z
UID:29570-1715716800-1715720400@4ineetcie.ch
SUMMARY:Lecture vivante et réjouissante de Les Esprits de la terre\, de Catherine Colomb - Episode 2
DESCRIPTION:par Catherine Kunz
URL:https://4ineetcie.ch/event/lecture-vivante-et-rejouissante-de-les-esprits-de-la-terre-de-catherine-colomb-episode-2/
LOCATION:Maison de Quartier Sous-Gare\, Avenue Dapples 50\, Lausanne
CATEGORIES:Lecture vivante
ORGANIZER;CN="4ine&Cie":MAILTO:info@4ineetcie.ch
END:VEVENT
BEGIN:VEVENT
DTSTART;TZID=Europe/Zurich:20240516T190000
DTEND;TZID=Europe/Zurich:20240516T190000
DTSTAMP:20260424T014747
CREATED:20240206T101902Z
LAST-MODIFIED:20240206T112840Z
UID:29572-1715886000-1715886000@4ineetcie.ch
SUMMARY:Lecture vivante et réjouissante de Les Esprits de la terre\, de Catherine Colomb - Episode 2
DESCRIPTION:par Catherine Kunz
URL:https://4ineetcie.ch/event/lecture-vivante-et-rejouissante-de-les-esprits-de-la-terre-de-catherine-colomb-episode-2-2/
LOCATION:La Filature\, Espace MarkdeFabrick\, chemin de la Condémine\, 1315 La Sarraz\, Chemin de la Condémine\, La Sarraz\, Vaud\, 1315\, Suisse
CATEGORIES:Lecture vivante
ORGANIZER;CN="4ine&Cie":MAILTO:info@4ineetcie.ch
END:VEVENT
BEGIN:VEVENT
DTSTART;TZID=Europe/Zurich:20240519T170000
DTEND;TZID=Europe/Zurich:20240519T180000
DTSTAMP:20260424T014747
CREATED:20240206T102044Z
LAST-MODIFIED:20240206T112831Z
UID:29574-1716138000-1716141600@4ineetcie.ch
SUMMARY:Lecture vivante et réjouissante de Les Esprits de la terre\, de Catherine Colomb - Episode 2
DESCRIPTION:par Catherine Kunz
URL:https://4ineetcie.ch/event/lecture-vivante-et-rejouissante-de-les-esprits-de-la-terre-de-catherine-colomb-episode-2-3/
LOCATION:Espace culturel du Vieux Moulin\, Salle Mermet III\, Av. de Taillecou 2\, 1162 Sant-Prex\, Avenue de Taillecou 2\, Saint Prex\, Vaud\, 1162\, Suisse
CATEGORIES:Lecture vivante
ORGANIZER;CN="4ine&Cie":MAILTO:info@4ineetcie.ch
END:VEVENT
END:VCALENDAR